BEGIN:VCALENDAR
VERSION:2.0
PRODID:-//Nkoroi Catholic Parish - ECPv6.15.16.1//NONSGML v1.0//EN
CALSCALE:GREGORIAN
METHOD:PUBLISH
X-ORIGINAL-URL:https://nkoroicatholic.org
X-WR-CALDESC:Events for Nkoroi Catholic Parish
REFRESH-INTERVAL;VALUE=DURATION:PT1H
X-Robots-Tag:noindex
X-PUBLISHED-TTL:PT1H
BEGIN:VTIMEZONE
TZID:Europe/Moscow
BEGIN:STANDARD
TZOFFSETFROM:+0300
TZOFFSETTO:+0300
TZNAME:MSK
DTSTART:20170101T000000
END:STANDARD
END:VTIMEZONE
BEGIN:VEVENT
DTSTART;TZID=Europe/Moscow:20200214T190000
DTEND;TZID=Europe/Moscow:20200214T233000
DTSTAMP:20260424T222259
CREATED:20200201T092643Z
LAST-MODIFIED:20200201T094708Z
UID:26405-1581706800-1581723000@nkoroicatholic.org
SUMMARY:Valentines Dinner 2020
DESCRIPTION:Welcome to Nkoroi Catholic Valentines Dinner. Come share this beautiful day with your special one at Nkoroi Catholic Parish on 14th February. \nTheme is BBI of Love. \nDress Code is Cowboy.\nPrice is 4000 per Couple\nMC: Pascal Tokodi\nRSVP: 0724320662\nPaybill: 707050 Account: Valentine\nhttps://nkoroicatholic.org/wp-content/uploads/2020/02/VID-20200201-WA0003.mp4
URL:https://nkoroicatholic.org/event/valentines-dinner-2020/
LOCATION:Nkoroi Catholic Parish\, Nkoroi\, Ongata Ronga\, Kenya
CATEGORIES:Celebrations,Dinner,Holidays
ATTACH;FMTTYPE=image/jpeg:https://nkoroicatholic.org/wp-content/uploads/2020/02/IMG-20200201-WA0002.jpg
END:VEVENT
BEGIN:VEVENT
DTSTART;VALUE=DATE:20191027
DTEND;VALUE=DATE:20191028
DTSTAMP:20260424T222259
CREATED:20190828T144239Z
LAST-MODIFIED:20190828T144240Z
UID:26381-1572134400-1572220799@nkoroicatholic.org
SUMMARY:Mass Wedding
DESCRIPTION:Register for the Mass wedding before October. The parish priest will provide the wedding gown\, wedding rings\, cakes\, food\, reception and the certificate. Visit the church office from Tuesday to Sunday to register and get more information.
URL:https://nkoroicatholic.org/event/mass-wedding/
LOCATION:Nkoroi Catholic Parish\, Nkoroi\, Ongata Ronga\, Kenya
CATEGORIES:Celebrations,Weddings
END:VEVENT
BEGIN:VEVENT
DTSTART;TZID=Europe/Moscow:20190815T080000
DTEND;TZID=Europe/Moscow:20190815T130000
DTSTAMP:20260424T222259
CREATED:20190430T102634Z
LAST-MODIFIED:20190430T102634Z
UID:26270-1565856000-1565874000@nkoroicatholic.org
SUMMARY:Assumption of the Blessed Virgin Mary
DESCRIPTION:Assumption of the Blessed Virgin Mary (also known as the Assumption) is a catholic holiday announced on 1 November 1950 by Pope Pius XII. It celebrates the day when the Holy Virgin Mary ended her earthly life and was taken to heaven together with her soul and body. However\, already in earlier centuries\, it was believed that Jesus glorified the body of his mother and took it to heaven making it similar to his and stressing the role of Mary in the history of salvation. \nIs the Assumption a Holy Day of Obligation?\nIn many countries the Assumption is marked as a Holy Day of Obligation in the Roman Catholic Church and as a festival in the Anglican Communion. Eastern Orthodox and Eastern Catholics celebrate the Dormition of the Theotokos (the falling asleep of the Mother of God) on the same date. \nIn the United States Assumption is a Holy Day of Obligation unless it falls on a Saturday or on a Monday\, in which cases the precept to attend Mass is abrogated. This was decided by the National Conference of Catholic Bishops of the United States of America on December 13\, 1991 (Canon 1246) and is effective as of January 1\, 1993. Nevertheless\, all the faithful are encouraged to attend mass on this day but are not obliged.
URL:https://nkoroicatholic.org/event/assumption-of-the-blessed-virgin-mary/
LOCATION:Nkoroi Catholic Parish\, Nkoroi\, Ongata Ronga\, Kenya
CATEGORIES:Celebrations,Holidays
ATTACH;FMTTYPE=image/jpeg:https://nkoroicatholic.org/wp-content/uploads/2019/04/assumption_big.jpg
END:VEVENT
BEGIN:VEVENT
DTSTART;TZID=Europe/Moscow:20190620T080000
DTEND;TZID=Europe/Moscow:20190620T130000
DTSTAMP:20260424T222259
CREATED:20190430T102429Z
LAST-MODIFIED:20190430T102429Z
UID:26268-1561017600-1561035600@nkoroicatholic.org
SUMMARY:Corpus Christi
DESCRIPTION:
URL:https://nkoroicatholic.org/event/corpus-christi/
LOCATION:Nkoroi Catholic Parish\, Nkoroi\, Ongata Ronga\, Kenya
CATEGORIES:Celebrations
ATTACH;FMTTYPE=image/jpeg:https://nkoroicatholic.org/wp-content/uploads/2018/07/corpus-christi.jpg
END:VEVENT
BEGIN:VEVENT
DTSTART;VALUE=DATE:20190303
DTEND;VALUE=DATE:20190304
DTSTAMP:20260424T222259
CREATED:20190206T121058Z
LAST-MODIFIED:20190206T121058Z
UID:25283-1551571200-1551657599@nkoroicatholic.org
SUMMARY:Family Day
DESCRIPTION:Family Day
URL:https://nkoroicatholic.org/event/family-day/
LOCATION:Nkoroi Catholic Parish\, Nkoroi\, Ongata Ronga\, Kenya
CATEGORIES:Celebrations,Mass Animation
END:VEVENT
BEGIN:VEVENT
DTSTART;TZID=Europe/Moscow:20190209T180000
DTEND;TZID=Europe/Moscow:20190209T230000
DTSTAMP:20260424T222259
CREATED:20190206T120810Z
LAST-MODIFIED:20190206T120811Z
UID:25281-1549735200-1549753200@nkoroicatholic.org
SUMMARY:Valentines Dinner
DESCRIPTION:Come Celebrate Valentines dinner with your loved ones at Nkoroi Catholic Church
URL:https://nkoroicatholic.org/event/valentines-dinner/
LOCATION:Nkoroi Catholic Parish\, Nkoroi\, Ongata Ronga\, Kenya
CATEGORIES:Celebrations,Holidays
END:VEVENT
BEGIN:VEVENT
DTSTART;TZID=Europe/Moscow:20180624T073000
DTEND;TZID=Europe/Moscow:20180624T140000
DTSTAMP:20260424T222259
CREATED:20180618T164605Z
LAST-MODIFIED:20180618T164900Z
UID:25142-1529825400-1529848800@nkoroicatholic.org
SUMMARY:
DESCRIPTION:
URL:https://nkoroicatholic.org/event/25142/
LOCATION:Nkoroi Catholic Parish\, Nkoroi\, Ongata Ronga\, Kenya
CATEGORIES:Mass Animation
END:VEVENT
BEGIN:VEVENT
DTSTART;TZID=Europe/Moscow:20180527T073000
DTEND;TZID=Europe/Moscow:20180527T130000
DTSTAMP:20260424T222259
CREATED:20180521T120347Z
LAST-MODIFIED:20180521T120347Z
UID:24949-1527406200-1527426000@nkoroicatholic.org
SUMMARY:1st Sunday Ordinary time
DESCRIPTION:
URL:https://nkoroicatholic.org/event/1st-sunday-ordinary-time/
LOCATION:Nkoroi Catholic Parish\, Nkoroi\, Ongata Ronga\, Kenya
CATEGORIES:Christening
END:VEVENT
END:VCALENDAR